BEGIN:VCALENDAR
VERSION:2.0
PRODID:-//https://ischiaeventi.com///NONSGML kigkonsult.se iCalcreator 2.10.15//
METHOD:PUBLISH
BEGIN:VEVENT
UID:20260426T024706UTC-83265Rrn7e@https://ischiaeventi.com/
DTSTAMP:20260426T024706Z
DESCRIPTION:Cinema Excelsior\nIngresso libero sino ad esaurimento posti\n23
 .00 ALBERTO SORDI SECRET di Igor Righetti (Italia\, 2024) – 90’\n&nbsp\;\n
  https://ischiaeventi.com/en/past-events/event/100788-ischia-global-fest-2
 025-alberto-sordi-secret
DTSTART:20250711T210000Z
DTEND:20250711T215900Z
LOCATION:Cinema Excelsior (Via Francesco Sogliuzzo\, 18\, 80077 Ischia NA\,
  Italia)
SUMMARY:Ischia Global Fest 2025: ALBERTO SORDI SECRET 
URL:https://ischiaeventi.com/en/past-events/event/100788-ischia-global-fest
 -2025-alberto-sordi-secret
END:VEVENT
END:VCALENDAR
