BEGIN:VCALENDAR
VERSION:2.0
PRODID:-//https://ischiaeventi.com///NONSGML kigkonsult.se iCalcreator 2.10.15//
METHOD:PUBLISH
BEGIN:VEVENT
UID:20260425T221255UTC-7084PrbAxZ@https://ischiaeventi.com/
DTSTAMP:20260425T221255Z
DESCRIPTION:Nonna Titta’s cookbook https://ischiaeventi.com/en/past-events/
 event/249362-christmas-in-forio-2025-nonna-tittas-cookbook
DTSTART:20251220T160000Z
DTEND:20251220T180000Z
LOCATION:Chiostro S. Francesco (Rione Pescatori\, 2\, 80075 Forio NA\, Ital
 ia)
SUMMARY:Christmas in Forio 2025: Nonna Titta’s cookbook
URL:https://ischiaeventi.com/en/past-events/event/249362-christmas-in-forio
 -2025-nonna-tittas-cookbook
END:VEVENT
END:VCALENDAR
