BEGIN:VCALENDAR
VERSION:2.0
PRODID:-//https://ischiaeventi.com///NONSGML kigkonsult.se iCalcreator 2.10.15//
METHOD:PUBLISH
BEGIN:VEVENT
UID:20260425T221357UTC-6647kpTZTW@https://ischiaeventi.com/
DTSTAMP:20260425T221357Z
DESCRIPTION:Sacred Representation of the Passion of Christ through the stre
 ets of the parish\nThursday\, March 268:00 PM\n\n1st Station – Pilate’s Pr
 aetorium\n2nd Station – Jesus Takes Up the Cross\n3rd Station – First Fall
 \n4th Station – Meeting with His Mother\n5th Station – Simon of Cyrene\n6t
 h Station – Veronica\n7th Station – Second Fall\n8th Station – The Women o
 f Jerusalem\n9th Station – Third Fall\n10th Station – Stripping of Garment
 s\n11th Station – Crucifixion\n12th Station – Death\n13th Station – Deposi
 tion\n14th Station – The Tomb\n https://ischiaeventi.com/en/past-events/ev
 ent/249718-sacred-representation-of-the-passion-of-christ
DTSTART:20260327T190000Z
DTEND:20260327T223000Z
LOCATION:Parrocchia di Santa Maria del Carmine (Piazza P. P. Iacono\, 5\, 8
 0070 Serrara Fontana NA\, Italia)
SUMMARY:Sacred Representation of the Passion of Christ
URL:https://ischiaeventi.com/en/past-events/event/249718-sacred-representat
 ion-of-the-passion-of-christ
END:VEVENT
END:VCALENDAR
