BEGIN:VCALENDAR
VERSION:2.0
PRODID:-//https://ischiaeventi.com///NONSGML kigkonsult.se iCalcreator 2.10.15//
METHOD:PUBLISH
BEGIN:VEVENT
UID:20260425T204601UTC-0621V4CgGU@https://ischiaeventi.com/
DTSTAMP:20260425T204601Z
DESCRIPTION:Ischia Latin Festival – 2nd EditionMarch 27\, 28\, 29\, 2026\nF
 air Events\nMichelangelo Family &amp\; Spa Resort\nBalliamo Salsa Napoli h
 ttps://ischiaeventi.com/en/past-events/event/249722-ischia-latin-festival-
 --2nd-edition
DTSTART:20260329T083700Z
DTEND:20260329T103700Z
LOCATION:Park Hotel Terme Michelangelo (Via Provinciale Lacco - Fango\, 77\
 , 80076 Lacco Ameno NA\, Italia)
SUMMARY:Ischia Latin Festival – 2nd Edition
URL:https://ischiaeventi.com/en/past-events/event/249722-ischia-latin-festi
 val---2nd-edition
END:VEVENT
END:VCALENDAR
