BEGIN:VCALENDAR
VERSION:2.0
PRODID:-//https://ischiaeventi.com///NONSGML kigkonsult.se iCalcreator 2.10.15//
METHOD:PUBLISH
BEGIN:VEVENT
UID:20260426T033912UTC-6741ZnOVmu@https://ischiaeventi.com/
DTSTAMP:20260426T033912Z
DESCRIPTION:“Being there with care”Dialogue with psychotherapist Dr. France
 sca Feliciello\nCare as a relational channel and a tool for self-realizati
 on.\nWednesday\, April 15\, 20265:00 PM\nGiardini Ravino – Forio https://i
 schiaeventi.com/en/past-events/event/249869-caring-words
DTSTART:20260415T150000Z
DTEND:20260415T170000Z
LOCATION:Giardini Ravino (Via Provinciale Panza\, 140b\, 80075 Ischia NA\, 
 Italia)
SUMMARY:CARING WORDS
URL:https://ischiaeventi.com/en/past-events/event/249869-caring-words
END:VEVENT
END:VCALENDAR
