BEGIN:VCALENDAR
VERSION:2.0
PRODID:-//https://ischiaeventi.com///NONSGML kigkonsult.se iCalcreator 2.10.15//
METHOD:PUBLISH
BEGIN:VEVENT
UID:20260422T230000UTC-08231SVUxN@https://ischiaeventi.com/
DTSTAMP:20260422T230000Z
DESCRIPTION:\nSHOWTIMES: 19:00 - 21:30 Hall 1Title: MichaelRelease: USAGenr
 e: Drama\, biographical\, musicalDirected by:&nbsp\;Antoine FuquaRuntime: 
 127 minutesRating: kids +13Cast:&nbsp\;Jaafar Jackson\, Miles Teller\, Col
 man Domingo\, Nia Long\, Juliano Valdi\, Joe Gillette\, Kat Graham\, Laura
  Harrier\, Larenz Tate\, Derek Luke\, Jessica Sula\, Kendrick Sampson\, Jo
 seph David-Jones\nPLOT\nMichael\, a film directed by Antoine Fuqua\, bring
 s to the screen the story\, career\, and legacy of Michael Jackson (Jaafar
  Jackson)\, one of the most iconic and influential figures in the history 
 of global music.The film traces his entire life\, from his early performan
 ces as a child with the Jackson 5\, through the ?? discipline and abuse he
  endured from his father Joe Jackson (Colman Domingo)\, to the meteoric ri
 se that crowned him the King of Pop. The narrative explores the emergence 
 of his precocious talent and his transformation into a visionary artist\, 
 driven by relentless creative ambition and a constant pursuit of perfectio
 n. From his groundbreaking solo performances in the 1970s to the record-br
 eaking success of Thriller\, from the purchase of the Neverland estate to 
 his charitable efforts\, the film portrays Jackson both as a global phenom
 enon and as a man\, shedding light on the complexities of his private life
 .Through key encounters with influential figures such as Berry Gordy (Lare
 nz Tate)\, Diana Ross (Kat Graham)\, Quincy Jones (Kendrick Sampson)\, and
  attorney John Branca (Miles Teller)\, we gain insight into the behind-the
 -scenes of his career and his most important relationships. The story also
  touches on more intimate moments\, including the birth of his children an
 d his final weeks\, culminating in the tragic and unexpected death on June
  25\, 2009.A journey that allows audiences to see the artist as never befo
 re\, celebrating his extraordinary talent and the lasting impact he left o
 n global pop culture.\n\n\n https://ischiaeventi.com/en/past-events/event/
 249899-michael-2-screenings-hall-1
DTSTART:20260422T170000Z
DTEND:20260422T210000Z
LOCATION:Cinema Excelsior (Via Francesco Sogliuzzo\, 18\, 80077 Ischia NA\,
  Italia)
SUMMARY:Michael (2 screenings) Hall 1 
URL:https://ischiaeventi.com/en/past-events/event/249899-michael-2-screenin
 gs-hall-1
END:VEVENT
END:VCALENDAR
