BEGIN:VCALENDAR
VERSION:2.0
PRODID:-//https://ischiaeventi.com///NONSGML kigkonsult.se iCalcreator 2.10.15//
METHOD:PUBLISH
BEGIN:VEVENT
UID:20260426T040834UTC-2571J99slV@https://ischiaeventi.com/
DTSTAMP:20260426T040834Z
DESCRIPTION:Internationa day of yoga\, evento gratuito https://ischiaeventi
 .com/en/past-events/event/30622-internationa-day-of-yoga
DTSTART:20240621T180000Z
DTEND:20240621T205300Z
LOCATION:Piazzale del Soccorso (Via del Soccorso\, 6\, 80075 Forio NA\, Ita
 lia)
SUMMARY:Internationa day of yoga
URL:https://ischiaeventi.com/en/past-events/event/30622-internationa-day-of
 -yoga
END:VEVENT
END:VCALENDAR
