BEGIN:VCALENDAR
VERSION:2.0
PRODID:-//https://ischiaeventi.com///NONSGML kigkonsult.se iCalcreator 2.10.15//
METHOD:PUBLISH
BEGIN:VEVENT
UID:20260426T032229UTC-9212kk2cN1@https://ischiaeventi.com/
DTSTAMP:20260426T032229Z
DESCRIPTION:Eco Art: arte\, reciclo e natuta https://ischiaeventi.com/en/pa
 st-events/event/31480-eco-art-arte-reciclo-e-natuta
DTSTART:20240725T180000Z
DTEND:20240725T203000Z
LOCATION:Agriturismo La pergola (Via S. Giuseppe\, 24\, 80075 Forio NA\, It
 alia)
SUMMARY:Eco Art: arte\, reciclo e natuta
URL:https://ischiaeventi.com/en/past-events/event/31480-eco-art-arte-recicl
 o-e-natuta
END:VEVENT
END:VCALENDAR
