BEGIN:VCALENDAR
VERSION:2.0
PRODID:-//https://ischiaeventi.com///NONSGML kigkonsult.se iCalcreator 2.10.15//
METHOD:PUBLISH
BEGIN:VEVENT
UID:20260426T023946UTC-9581LJDEGP@https://ischiaeventi.com/
DTSTAMP:20260426T023946Z
DESCRIPTION:“Streghe &amp\; gattopardi. A teatro con Luchino Visconti “Prog
 etto di Laboratorio Teatrale&nbsp\; https://ischiaeventi.com/en/past-event
 s/event/36834-bellissima-rassegna-di-eventi-streghe-gattopardi
DTSTART:20250207T183000Z
DTEND:20250207T200000Z
LOCATION:La Colombaia (Via Francesco Calise\, 130\, 80075 Forio NA\, Italia
 )
SUMMARY:“BELLISSIMA” rassegna di eventi:  “Streghe & gattopardi
URL:https://ischiaeventi.com/en/past-events/event/36834-bellissima-rassegna
 -di-eventi-streghe-gattopardi
END:VEVENT
END:VCALENDAR
