BEGIN:VCALENDAR
VERSION:2.0
PRODID:-//https://ischiaeventi.com///NONSGML kigkonsult.se iCalcreator 2.10.15//
METHOD:PUBLISH
BEGIN:VEVENT
UID:20260421T033936UTC-9740ZTJ0IH@https://ischiaeventi.com/
DTSTAMP:20260421T033936Z
DESCRIPTION:DAL 20 AL 27 AGOSTO - CHIOSTRO DI SAN FRANCESCO\, PIAZZA MUNICI
 PIO MOSTRA D'ARTE COLLETTIVA DI GIOVANI STUDENTI UCRAINI https://ischiaeve
 nti.com/eventi-ad-ischia/cultura/architettura/evento/124246-estate-forio-2
 025-mostra-darte-collettiva-di-giovani-studenti-ucraini
DTSTART:20250825T183000Z
DTEND:20250825T215900Z
LOCATION:Chiostro S. Francesco (Rione Pescatori\, 2\, 80075 Forio NA\, Ital
 ia)
SUMMARY:Estate Forio 2025: MOSTRA D'ARTE COLLETTIVA DI GIOVANI STUDENTI UCR
 AINI
URL:https://ischiaeventi.com/eventi-ad-ischia/cultura/architettura/evento/1
 24246-estate-forio-2025-mostra-darte-collettiva-di-giovani-studenti-ucrain
 i
END:VEVENT
END:VCALENDAR
