BEGIN:VCALENDAR
VERSION:2.0
PRODID:-//https://ischiaeventi.com///NONSGML kigkonsult.se iCalcreator 2.10.15//
METHOD:PUBLISH
BEGIN:VEVENT
UID:20260421T004308UTC-8589uzVHUF@https://ischiaeventi.com/
DTSTAMP:20260421T004308Z
DESCRIPTION:Spettacolo teatralizzato partendo dalla&nbsp\;Scuola Principe d
 i Piemonte fino a piazza S.Restituta https://ischiaeventi.com/eventi-ad-is
 chia/cultura/architettura/evento/249731-il-coniglietto-smarrito-e-il-tesor
 o-delle-uova-magiche
DTSTART:20260328T143000Z
DTEND:20260328T170000Z
LOCATION:Lacco Ameno (Piazza Santa Restituta\, 80076 Lacco Ameno NA\, Itali
 a)
SUMMARY:Il Coniglietto smarrito e il tesoro delle uova magiche
URL:https://ischiaeventi.com/eventi-ad-ischia/cultura/architettura/evento/2
 49731-il-coniglietto-smarrito-e-il-tesoro-delle-uova-magiche
END:VEVENT
END:VCALENDAR
