BEGIN:VCALENDAR
VERSION:2.0
PRODID:-//https://ischiaeventi.com///NONSGML kigkonsult.se iCalcreator 2.10.15//
METHOD:PUBLISH
BEGIN:VEVENT
UID:20260420T211536UTC-7707FjL17T@https://ischiaeventi.com/
DTSTAMP:20260420T211536Z
DESCRIPTION:Domenica 29 MARZO (Domenica delle Palme) Orari Messe: 07.30-09.
 00-11.00 - 19.00Ore 10.45 Viale dei bambini (Benedizione degli ulivi e pal
 me) Processione in onore di Cristo Re e Santa Messa https://ischiaeventi.c
 om/eventi-ad-ischia/cultura/architettura/evento/249785-pasqua-a-ischia-ben
 edizione-degli-ulivi
DTSTART:20260329T084500Z
DTEND:20260329T113000Z
LOCATION:Viale dei bambini  (Ischia Ponte\, Ischia\, Napoli)
SUMMARY:Pasqua a Ischia: benedizione degli ulivi
URL:https://ischiaeventi.com/eventi-ad-ischia/cultura/architettura/evento/2
 49785-pasqua-a-ischia-benedizione-degli-ulivi
END:VEVENT
END:VCALENDAR
