BEGIN:VCALENDAR
VERSION:2.0
PRODID:-//https://ischiaeventi.com///NONSGML kigkonsult.se iCalcreator 2.10.15//
METHOD:PUBLISH
BEGIN:VEVENT
UID:20260420T211424UTC-3612iVgcPO@https://ischiaeventi.com/
DTSTAMP:20260420T211424Z
DESCRIPTION:VENERDÌ SANTO 3 APRILE - 'Passione del Signore' Ore 18.00 Celeb
 razione della Passione del Signore segue Via Crucis zona Noia https://isch
 iaeventi.com/eventi-ad-ischia/cultura/architettura/evento/249791-pasqua-a-
 ischia-via-crucis
DTSTART:20260403T160000Z
DTEND:20260403T183000Z
LOCATION:Borgo di Noia\, Serrara Fontana (80070 Serrara Fontana NA\, Italia
 )
SUMMARY:Pasqua a Ischia: via crucis
URL:https://ischiaeventi.com/eventi-ad-ischia/cultura/architettura/evento/2
 49791-pasqua-a-ischia-via-crucis
END:VEVENT
END:VCALENDAR
