BEGIN:VCALENDAR
VERSION:2.0
PRODID:-//https://ischiaeventi.com///NONSGML kigkonsult.se iCalcreator 2.10.15//
METHOD:PUBLISH
BEGIN:VEVENT
UID:20260421T014248UTC-3377p88wvm@https://ischiaeventi.com/
DTSTAMP:20260421T014248Z
DESCRIPTION:“Note sul mare”5º Concorso Internazionale “Ischia” per Solisti 
 e Musica da Camera\n10 MAGGIO – Cerimonia di Premiazione / Concerto Finale
 ore 21:00\nVILLA ARBUSTO – LACCO AMENO (ITALIA)\nDirettori Artistici:Feder
 ica Monti &amp\; Fabio Bianco\nInfo:+39 081 5071403+39 333 3283159 https:/
 /ischiaeventi.com/eventi-ad-ischia/cultura/architettura/evento/249795-note
 -sul-mare-5th-ischia-international-soloist-chamber-music-competition
DTSTART:20260308T170000Z
DTEND:20260308T200000Z
LOCATION:Villa Arbusto (Corso Angelo Rizzoli\, 194\, 80076 Lacco Ameno NA\,
  Italia)
SUMMARY:'Note sul mare' 5th 'Ischia' international soloist & chamber music 
 competition
URL:https://ischiaeventi.com/eventi-ad-ischia/cultura/architettura/evento/2
 49795-note-sul-mare-5th-ischia-international-soloist-chamber-music-competi
 tion
END:VEVENT
END:VCALENDAR
