BEGIN:VCALENDAR
VERSION:2.0
PRODID:-//https://ischiaeventi.com///NONSGML kigkonsult.se iCalcreator 2.10.15//
METHOD:PUBLISH
BEGIN:VEVENT
UID:20260421T044057UTC-0192vnrvP4@https://ischiaeventi.com/
DTSTAMP:20260421T044057Z
DESCRIPTION:MARION DÖNHOFF - LA CONTESSA DELLA PACE TRA ISCHIA E GERMANIA'L
 a pace non nasce dall'oblio\, ma dalla memoria e dalla responsabilità”con 
 il Patrocinio morale del Comune di ForioSaluti di aperturaStany Verde\, Si
 ndaco di Forio https://ischiaeventi.com/eventi-ad-ischia/cultura/architett
 ura/evento/249826-marion-doenhoff-la-contessa-della-pace-tra-ischia-e-germ
 ania
DTSTART:20260410T160000Z
DTEND:20260410T180000Z
LOCATION:sala consiliare Mazzella  (80075 Forio NA\, Italia)
SUMMARY:MARION DÖNHOFF - LA CONTESSA DELLA PACE TRA ISCHIA E GERMANIA
URL:https://ischiaeventi.com/eventi-ad-ischia/cultura/architettura/evento/2
 49826-marion-doenhoff-la-contessa-della-pace-tra-ischia-e-germania
END:VEVENT
END:VCALENDAR
