BEGIN:VCALENDAR
VERSION:2.0
PRODID:-//https://ischiaeventi.com///NONSGML kigkonsult.se iCalcreator 2.10.15//
METHOD:PUBLISH
BEGIN:VEVENT
UID:20260420T222822UTC-8042KVC37M@https://ischiaeventi.com/
DTSTAMP:20260420T222822Z
DESCRIPTION:La storia vera di una madre e della battaglia di suo figlioVero
 nica MatareseLA FORZA DI UNA MAMMA&nbsp\;27 Aprile 2026Ore 17:00Sala Consi
 liare del Comune di ForioVi aspettiamo! https://ischiaeventi.com/eventi-ad
 -ischia/cultura/architettura/evento/249896-presentazione-del-libro-la-forz
 a-di-una-mamma
DTSTART:20260427T150000Z
DTEND:20260427T170000Z
LOCATION:Sala conferenze Porto di Forio (Via Cristoforo Colombo\, 1311\, 80
 075 Forio NA\, Italia)
SUMMARY:Presentazione del Libro LA FORZA DI UNA MAMMA
URL:https://ischiaeventi.com/eventi-ad-ischia/cultura/architettura/evento/2
 49896-presentazione-del-libro-la-forza-di-una-mamma
END:VEVENT
END:VCALENDAR
