BEGIN:VCALENDAR
VERSION:2.0
PRODID:-//https://ischiaeventi.com///NONSGML kigkonsult.se iCalcreator 2.10.15//
METHOD:PUBLISH
BEGIN:VEVENT
UID:20260421T033320UTC-02029Kv3ej@https://ischiaeventi.com/
DTSTAMP:20260421T033320Z
DESCRIPTION:Nella straordinaria cornice del Centro Storico di Panza si esib
 iranno i MaLa Bazar\, per una serata all’insegna dei ricordi e della nosta
 lgia. https://ischiaeventi.com/eventi-ad-ischia/cultura/architettura/event
 o/29241-copia-da-concerto-matia-bazar
DTSTART:20240427T183000Z
DTEND:20240427T214800Z
LOCATION:Panza (Piazza San Leonardo - 80075 Panza Forio)
SUMMARY:Copia da Concerto Matia Bazar
URL:https://ischiaeventi.com/eventi-ad-ischia/cultura/architettura/evento/2
 9241-copia-da-concerto-matia-bazar
END:VEVENT
END:VCALENDAR
