BEGIN:VCALENDAR
VERSION:2.0
PRODID:-//https://ischiaeventi.com///NONSGML kigkonsult.se iCalcreator 2.10.15//
METHOD:PUBLISH
BEGIN:VEVENT
UID:20260421T003651UTC-4226dXNp0B@https://ischiaeventi.com/
DTSTAMP:20260421T003651Z
DESCRIPTION:LA DISCOTECA SILENZIOSA\nvi aspettiamo a SANT'ANGELO dalle 21.3
 0\nsi ballerà con utilizzo di cuffie wireless\, e si potrà scegliere selez
 ionando i canali della cuffia il proprio genere o dj preferito\nEVENTO ORG
 ANIZZATO DAL COMUNE DI SERRARA FONTANA\ndistribuzione cuffie completamente
  gratuita https://ischiaeventi.com/eventi-ad-ischia/cultura/architettura/e
 vento/30746-la-discoteca-silenziosa
DTSTART:20240621T193000Z
DTEND:20240621T213300Z
LOCATION:Borgo di Sant'Angelo (Via Nazario Sauro\, Sant'angelo NA\, Italia)
SUMMARY:La discoteca silenziosa
URL:https://ischiaeventi.com/eventi-ad-ischia/cultura/architettura/evento/3
 0746-la-discoteca-silenziosa
END:VEVENT
END:VCALENDAR
