BEGIN:VCALENDAR
VERSION:2.0
PRODID:-//https://ischiaeventi.com///NONSGML kigkonsult.se iCalcreator 2.10.15//
METHOD:PUBLISH
BEGIN:VEVENT
UID:20260421T004535UTC-5190R1V8HL@https://ischiaeventi.com/
DTSTAMP:20260421T004535Z
DESCRIPTION:VITE-INCANTI E STORIE DI SERRARALETTURE TEATRALIZZATE DI MILENA
  CASSANO E CHITARRA DI DENIS TRANI https://ischiaeventi.com/eventi-ad-isch
 ia/cultura/architettura/evento/31231-summer-time-serrara-vite-incanti-e-st
 orie-di-serrara-letture-teatralizzate
DTSTART:20240716T200000Z
DTEND:20240716T215200Z
LOCATION:Piazza Serrara (80070 Serrara Fontana NA\, Italia)
SUMMARY:Summer Time Serrara: VITE-INCANTI E STORIE DI SERRARA LETTURE TEATR
 ALIZZATE
URL:https://ischiaeventi.com/eventi-ad-ischia/cultura/architettura/evento/3
 1231-summer-time-serrara-vite-incanti-e-storie-di-serrara-letture-teatrali
 zzate
END:VEVENT
END:VCALENDAR
