BEGIN:VCALENDAR
VERSION:2.0
PRODID:-//https://ischiaeventi.com///NONSGML kigkonsult.se iCalcreator 2.10.15//
METHOD:PUBLISH
BEGIN:VEVENT
UID:20260421T004530UTC-8688e9evXe@https://ischiaeventi.com/
DTSTAMP:20260421T004530Z
DESCRIPTION:Summer Time Serrara: MUSICNIGHT CON ANDY E FABER DJ https://isc
 hiaeventi.com/eventi-ad-ischia/cultura/architettura/evento/31251-summer-ti
 me-serrara-musicnight-con-andy-e-faber-dj
DTSTART:20240824T190000Z
DTEND:20240824T210000Z
LOCATION:Piazza Fontana (80070 Serrara Fontana NA\, Italia)
SUMMARY:Summer Time Serrara:  MUSICNIGHT CON ANDY E FABER DJ
URL:https://ischiaeventi.com/eventi-ad-ischia/cultura/architettura/evento/3
 1251-summer-time-serrara-musicnight-con-andy-e-faber-dj
END:VEVENT
END:VCALENDAR
