BEGIN:VCALENDAR
VERSION:2.0
PRODID:-//https://ischiaeventi.com///NONSGML kigkonsult.se iCalcreator 2.10.15//
METHOD:PUBLISH
BEGIN:VEVENT
UID:20260421T004824UTC-09855SJhnM@https://ischiaeventi.com/
DTSTAMP:20260421T004824Z
DESCRIPTION:Serata di intrattenimento e musica in occasione della festività
  della Madonna Assunta https://ischiaeventi.com/eventi-ad-ischia/cultura/a
 rchitettura/evento/31654-e-state-insieme-a-lacco-ameno-xxxvi-edizione-dell
 a-tradizionale-sagra-di-ferragosto
DTSTART:20240813T190000Z
DTEND:20240813T212300Z
LOCATION:Piazza Rosario (Via Rosario\, 80076 Lacco Ameno NA\, Italia)
SUMMARY:E-state insieme a Lacco Ameno: XXXVI edizione della tradizionale SA
 GRA DI FERRAGOSTO
URL:https://ischiaeventi.com/eventi-ad-ischia/cultura/architettura/evento/3
 1654-e-state-insieme-a-lacco-ameno-xxxvi-edizione-della-tradizionale-sagra
 -di-ferragosto
END:VEVENT
END:VCALENDAR
