BEGIN:VCALENDAR
VERSION:2.0
PRODID:-//https://ischiaeventi.com///NONSGML kigkonsult.se iCalcreator 2.10.15//
METHOD:PUBLISH
BEGIN:VEVENT
UID:20260421T015000UTC-0939Xv8TiS@https://ischiaeventi.com/
DTSTAMP:20260421T015000Z
DESCRIPTION:GIOCHI ANTICHI ritorno al puro divertimento di una volta con gl
 i storici giochi per entusiasmare ed intrattenere adulti e bambini in Mont
 erone Forio https://ischiaeventi.com/eventi-ad-ischia/cultura/architettura
 /evento/34087-forio-merryland-giochi-antichi
DTSTART:20241213T143000Z
DTEND:20241213T170000Z
LOCATION:Comune di Forio (Piazza Municipio\, 1\, 80075 Forio NA\, Italia)
SUMMARY:Forio MerryLand: GIOCHI ANTICHI
URL:https://ischiaeventi.com/eventi-ad-ischia/cultura/architettura/evento/3
 4087-forio-merryland-giochi-antichi
END:VEVENT
END:VCALENDAR
