BEGIN:VCALENDAR
VERSION:2.0
PRODID:-//https://ischiaeventi.com///NONSGML kigkonsult.se iCalcreator 2.10.15//
METHOD:PUBLISH
BEGIN:VEVENT
UID:20260421T034005UTC-0720Z8Pf1s@https://ischiaeventi.com/
DTSTAMP:20260421T034005Z
DESCRIPTION:20.30 SCARIUM replica dello spettacolo teatrale itinerante nel 
 vicolo del Torrione in Forio https://ischiaeventi.com/eventi-ad-ischia/cul
 tura/architettura/evento/34092-forio-merryland-scarium
DTSTART:20241214T193000Z
DTEND:20241214T213000Z
LOCATION:Comune di Forio (Piazza Municipio\, 1\, 80075 Forio NA\, Italia)
SUMMARY:Forio MerryLand: SCARIUM 
URL:https://ischiaeventi.com/eventi-ad-ischia/cultura/architettura/evento/3
 4092-forio-merryland-scarium
END:VEVENT
END:VCALENDAR
