BEGIN:VCALENDAR
VERSION:2.0
PRODID:-//https://ischiaeventi.com///NONSGML kigkonsult.se iCalcreator 2.10.15//
METHOD:PUBLISH
BEGIN:VEVENT
UID:20260421T014854UTC-3562aAmP1P@https://ischiaeventi.com/
DTSTAMP:20260421T014854Z
DESCRIPTION:Domenica 1 giugno dalle 21:30 a Piazza San Gaetano https://isch
 iaeventi.com/eventi-ad-ischia/cultura/architettura/evento/80718-personal-i
 n-concerto
DTSTART:20250601T193000Z
DTEND:20250601T203300Z
LOCATION:Vico San Gaetano\, Forio (Via Cesare Piro\, 10\, 80075 Forio NA\, 
 Italia)
SUMMARY:PERSONAL IN CONCERTO
URL:https://ischiaeventi.com/eventi-ad-ischia/cultura/architettura/evento/8
 0718-personal-in-concerto
END:VEVENT
END:VCALENDAR
