BEGIN:VCALENDAR
VERSION:2.0
PRODID:-//https://ischiaeventi.com///NONSGML kigkonsult.se iCalcreator 2.10.15//
METHOD:PUBLISH
BEGIN:VEVENT
UID:20260421T015356UTC-2792JvvH6N@https://ischiaeventi.com/
DTSTAMP:20260421T015356Z
DESCRIPTION:Spettacolo esilarante per bambini e famiglie con il clown dei r
 ecord!\n&nbsp\;\n&nbsp\; https://ischiaeventi.com/eventi-ad-ischia/cultura
 /architettura/evento/81009-festeggiamenti-in-onore-di-san-vito-otto-il-bas
 sotto
DTSTART:20250616T160000Z
DTEND:20250616T183000Z
LOCATION:Porto di Forio (Porto di Forio\, 80075 Forio NA\, Italia)
SUMMARY:Festeggiamenti in onore di San Vito: Otto il Bassotto
URL:https://ischiaeventi.com/eventi-ad-ischia/cultura/architettura/evento/8
 1009-festeggiamenti-in-onore-di-san-vito-otto-il-bassotto
END:VEVENT
END:VCALENDAR
