BEGIN:VCALENDAR
VERSION:2.0
PRODID:-//https://ischiaeventi.com///NONSGML kigkonsult.se iCalcreator 2.10.15//
METHOD:PUBLISH
BEGIN:VEVENT
UID:20260423T164128UTC-0342wsmr9h@https://ischiaeventi.com/
DTSTAMP:20260423T164128Z
DESCRIPTION:\n\n\n\n\n\n\nIschiapuppets Festival 2025 apre con la Compagnia
  “Arriba las Hu! Manos”\nore 19:30 e 21:30\nIschia via E.Cortese\n\n\n\n\n
 \n\n https://ischiaeventi.com/eventi-ad-ischia/cultura/convegni/evento/100
 983-ischiapuppets-festival-2025
DTSTART:20250707T173000Z
DTEND:20250707T203000Z
LOCATION:Via Edgardo Cortese (Via Edgardo Cortese\, 80077 Ischia NA\, Itali
 a)
SUMMARY:Ischiapuppets Festival 2025
URL:https://ischiaeventi.com/eventi-ad-ischia/cultura/convegni/evento/10098
 3-ischiapuppets-festival-2025
END:VEVENT
END:VCALENDAR
