BEGIN:VCALENDAR
VERSION:2.0
PRODID:-//https://ischiaeventi.com///NONSGML kigkonsult.se iCalcreator 2.10.15//
METHOD:PUBLISH
BEGIN:VEVENT
UID:20260423T120658UTC-63433bpWzw@https://ischiaeventi.com/
DTSTAMP:20260423T120658Z
DESCRIPTION:'Estro Armonico'Buchner String Orchestra&nbsp\;Directed by Prof
 . G. Riccio https://ischiaeventi.com/eventi-ad-ischia/cultura/convegni/eve
 nto/249437-luce-per-la-pace-estro-armonico
DTSTART:20260324T180000Z
DTEND:20260324T200000Z
LOCATION:Santa Maria delle Grazie in San Pietro (Corso Vittoria Colonna\, 1
 91\, 80077 Ischia NA\, Italia)
SUMMARY:Luce per la pace: 'Estro Armonico'
URL:https://ischiaeventi.com/eventi-ad-ischia/cultura/convegni/evento/24943
 7-luce-per-la-pace-estro-armonico
END:VEVENT
END:VCALENDAR
