BEGIN:VCALENDAR
VERSION:2.0
PRODID:-//https://ischiaeventi.com///NONSGML kigkonsult.se iCalcreator 2.10.15//
METHOD:PUBLISH
BEGIN:VEVENT
UID:20260423T195332UTC-6873Uzwkup@https://ischiaeventi.com/
DTSTAMP:20260423T195332Z
DESCRIPTION:Sessione aperta di tiro con l'arco degustazioni delle specialit
 à del Telese Grafico open day! https://ischiaeventi.com/eventi-ad-ischia/c
 ultura/convegni/evento/249439-aperitiro-al-telese
DTSTART:20260122T150000Z
DTEND:20260122T170000Z
LOCATION:Istituto Professionale di stato 'Vincenzo Telese' (Via Fondo Bosso
 \, 1\, 80077 Ischia NA\, Italia)
SUMMARY:Aperitiro al Telese
URL:https://ischiaeventi.com/eventi-ad-ischia/cultura/convegni/evento/24943
 9-aperitiro-al-telese
END:VEVENT
END:VCALENDAR
