BEGIN:VCALENDAR
VERSION:2.0
PRODID:-//https://ischiaeventi.com///NONSGML kigkonsult.se iCalcreator 2.10.15//
METHOD:PUBLISH
BEGIN:VEVENT
UID:20260423T195333UTC-29952THUDn@https://ischiaeventi.com/
DTSTAMP:20260423T195333Z
DESCRIPTION:Un apericena per stare insieme con buon cibo e buona compagnia.
 Lunedì 9 febbraiodalle 17:30 alle 20:00Presso la sala convegni dell'IPS V.
  TELESE https://ischiaeventi.com/eventi-ad-ischia/cultura/convegni/evento/
 249534-apericena-telese
DTSTART:20260209T163000Z
DTEND:20260209T190000Z
LOCATION:IPS 'Vincenzo Telese' (Via Fondo Bosso\, 3\, 80077 Ischia NA\, Ita
 lia)
SUMMARY:Apericena Telese
URL:https://ischiaeventi.com/eventi-ad-ischia/cultura/convegni/evento/24953
 4-apericena-telese
END:VEVENT
END:VCALENDAR
