BEGIN:VCALENDAR
VERSION:2.0
PRODID:-//https://ischiaeventi.com///NONSGML kigkonsult.se iCalcreator 2.10.15//
METHOD:PUBLISH
BEGIN:VEVENT
UID:20260423T191140UTC-5602xJLDTn@https://ischiaeventi.com/
DTSTAMP:20260423T191140Z
DESCRIPTION:Solenne Processione Penitenziale con la venerata immagine di Ma
 ria SS. Addolorata per le strade di Forio.La processione farà rientro per 
 via Casa di Maio. https://ischiaeventi.com/eventi-ad-ischia/cultura/conveg
 ni/evento/249691-solenne-settenario-in-onore-di-maria-ss-ma-addolorata
DTSTART:20260327T100000Z
DTEND:20260327T123000Z
LOCATION:Forio d’Ischia (80075 Forio NA\, Italia)
SUMMARY:Solenne settenario in onore di Maria SS.ma Addolorata
URL:https://ischiaeventi.com/eventi-ad-ischia/cultura/convegni/evento/24969
 1-solenne-settenario-in-onore-di-maria-ss-ma-addolorata
END:VEVENT
END:VCALENDAR
