BEGIN:VCALENDAR
VERSION:2.0
PRODID:-//https://ischiaeventi.com///NONSGML kigkonsult.se iCalcreator 2.10.15//
METHOD:PUBLISH
BEGIN:VEVENT
UID:20260423T143148UTC-1618HVNjMn@https://ischiaeventi.com/
DTSTAMP:20260423T143148Z
DESCRIPTION:MARIANNA SCAGLIOLAIl Francese\, Biancaneve e i SettebelloPrefaz
 ione Prof. Francesco VillaDEL TELESE CAFFÉ LETTERARIOII Francese\, Biancan
 eve e i Settebellodi Marianna Scagliolacuratrice: Daniela MarraPresentazio
 ne organizzata in collaborazione con 'II Viaggiatore Oltre i Confini'\, ra
 ssegna letteraria di Ischia FilmArt Festival Luchino Viscontigiovedì 23 ap
 rileore 15:30sala congressiI.P.S. 'V. Telese' https://ischiaeventi.com/eve
 nti-ad-ischia/cultura/convegni/evento/249907-il-francese-biancaneve-e-i-se
 ttebello
DTSTART:20260423T133000Z
DTEND:20260423T160000Z
LOCATION:IPS 'Vincenzo Telese' (Via Fondo Bosso\, 3\, 80077 Ischia NA\, Ita
 lia)
SUMMARY:Il Francese\, Biancaneve e i Settebello
URL:https://ischiaeventi.com/eventi-ad-ischia/cultura/convegni/evento/24990
 7-il-francese-biancaneve-e-i-settebello
END:VEVENT
END:VCALENDAR
