BEGIN:VCALENDAR
VERSION:2.0
PRODID:-//https://ischiaeventi.com///NONSGML kigkonsult.se iCalcreator 2.10.15//
METHOD:PUBLISH
BEGIN:VEVENT
UID:20260423T131501UTC-7900PtvP5p@https://ischiaeventi.com/
DTSTAMP:20260423T131501Z
DESCRIPTION:Forio omaggia Vito Mattera in occasione dell'anniversario della
  sua nascita. https://ischiaeventi.com/eventi-ad-ischia/cultura/convegni/e
 vento/28748-vito-per-sempre
DTSTART:20240327T163000Z
DTEND:20240327T190000Z
LOCATION:Caffe Internazionale Bar Maria (Corso Francesco Regine\, 41\, 8007
 5 Forio NA\, Italia)
SUMMARY:Vito per sempre
URL:https://ischiaeventi.com/eventi-ad-ischia/cultura/convegni/evento/28748
 -vito-per-sempre
END:VEVENT
END:VCALENDAR
