BEGIN:VCALENDAR
VERSION:2.0
PRODID:-//https://ischiaeventi.com///NONSGML kigkonsult.se iCalcreator 2.10.15//
METHOD:PUBLISH
BEGIN:VEVENT
UID:20260421T072024UTC-9650iUs6CT@https://ischiaeventi.com/
DTSTAMP:20260421T072024Z
DESCRIPTION:Sabato 18 Maggio ci vediamo sul Corso di Lacco Ameno con APERIL
 AND - Santa Restituta (special edition). A partire dalle ore 19:00 il dj s
 et di GaldiX &amp\; Skid. Dopo i fuochi d'artificio il closing di JEPPO pr
 oduction https://ischiaeventi.com/eventi-ad-ischia/cultura/convegni/evento
 /29721-aperiland-santa-restituta
DTSTART:20240518T170000Z
DTEND:20240518T213000Z
LOCATION:Marina di Lacco Ameno (Via Litoranea\, Lacco Ameno NA\, Italia)
SUMMARY:APERILAND - Santa Restituta 
URL:https://ischiaeventi.com/eventi-ad-ischia/cultura/convegni/evento/29721
 -aperiland-santa-restituta
END:VEVENT
END:VCALENDAR
