BEGIN:VCALENDAR
VERSION:2.0
PRODID:-//https://ischiaeventi.com///NONSGML kigkonsult.se iCalcreator 2.10.15//
METHOD:PUBLISH
BEGIN:VEVENT
UID:20260423T103426UTC-1176GXuFDP@https://ischiaeventi.com/
DTSTAMP:20260423T103426Z
DESCRIPTION:Summer Time Serrara: BELVEDERE AL CALAR DEL SOLE MUSICA CON DJ 
 PAKINHO https://ischiaeventi.com/eventi-ad-ischia/cultura/convegni/evento/
 31243-summer-time-serrara-belvedere-al-calar-del-sole-musica-con-dj-pakinh
 o
DTSTART:20240809T170000Z
DTEND:20240809T210000Z
LOCATION:Piazza Serrara (80070 Serrara Fontana NA\, Italia)
SUMMARY:Summer Time Serrara: BELVEDERE AL CALAR DEL SOLE MUSICA CON DJ PAKI
 NHO
URL:https://ischiaeventi.com/eventi-ad-ischia/cultura/convegni/evento/31243
 -summer-time-serrara-belvedere-al-calar-del-sole-musica-con-dj-pakinho
END:VEVENT
END:VCALENDAR
