BEGIN:VCALENDAR
VERSION:2.0
PRODID:-//https://ischiaeventi.com///NONSGML kigkonsult.se iCalcreator 2.10.15//
METHOD:PUBLISH
BEGIN:VEVENT
UID:20260423T133711UTC-71060mPWiO@https://ischiaeventi.com/
DTSTAMP:20260423T133711Z
DESCRIPTION:Panza summer fest: spettacolo brasiliano\nballi caraibici e lat
 ino americano https://ischiaeventi.com/eventi-ad-ischia/cultura/convegni/e
 vento/31717-panza-summer-fest-spettacolo-brasiliano
DTSTART:20240809T183000Z
DTEND:20240809T214300Z
LOCATION:Piazza San Leonardo ( Via Cavaliere Leonardo Impagliazzo\, 53\, 80
 075 Forio NA)
SUMMARY:Panza summer fest: spettacolo brasiliano
URL:https://ischiaeventi.com/eventi-ad-ischia/cultura/convegni/evento/31717
 -panza-summer-fest-spettacolo-brasiliano
END:VEVENT
END:VCALENDAR
