BEGIN:VCALENDAR
VERSION:2.0
PRODID:-//https://ischiaeventi.com///NONSGML kigkonsult.se iCalcreator 2.10.15//
METHOD:PUBLISH
BEGIN:VEVENT
UID:20260423T132507UTC-9806D6O0NK@https://ischiaeventi.com/
DTSTAMP:20260423T132507Z
DESCRIPTION:Mostra Veranica Acunto\nIngresso Libero\n&nbsp\; https://ischia
 eventi.com/eventi-ad-ischia/cultura/convegni/evento/68475-mostra-veronica-
 acunto
DTSTART:20250505T173000Z
DTEND:20250505T190000Z
LOCATION:Villa Arbusto (Corso Angelo Rizzoli\, 194\, 80076 Lacco Ameno NA\,
  Italia)
SUMMARY:Mostra Veronica Acunto
URL:https://ischiaeventi.com/eventi-ad-ischia/cultura/convegni/evento/68475
 -mostra-veronica-acunto
END:VEVENT
END:VCALENDAR
