BEGIN:VCALENDAR
VERSION:2.0
PRODID:-//https://ischiaeventi.com///NONSGML kigkonsult.se iCalcreator 2.10.15//
METHOD:PUBLISH
BEGIN:VEVENT
UID:20260420T114525UTC-7864J7BUrX@https://ischiaeventi.com/
DTSTAMP:20260420T114525Z
DESCRIPTION:La dolce notte di Forio - Music Italian Style nel centroi stori
 co di Forio https://ischiaeventi.com/eventi-ad-ischia/cultura/dibattiti-ed
 -incontri-culturali/evento/103203-estate-forio-2025-la-dolce-notte-di-fori
 o
DTSTART:20250726T190000Z
DTEND:20250726T215900Z
LOCATION:Comune di Forio (Piazza Municipio\, 1\, 80075 Forio NA\, Italia)
SUMMARY:Estate Forio 2025: la dolce notte di Forio
URL:https://ischiaeventi.com/eventi-ad-ischia/cultura/dibattiti-ed-incontri
 -culturali/evento/103203-estate-forio-2025-la-dolce-notte-di-forio
END:VEVENT
END:VCALENDAR
