BEGIN:VCALENDAR
VERSION:2.0
PRODID:-//https://ischiaeventi.com///NONSGML kigkonsult.se iCalcreator 2.10.15//
METHOD:PUBLISH
BEGIN:VEVENT
UID:20260420T131733UTC-5015w8IoR6@https://ischiaeventi.com/
DTSTAMP:20260420T131733Z
DESCRIPTION:MARTEDI 29 || ORE 21:00 - VILLA COLOMBAIAL'antico amore: spetta
 colo musicale con Maurizio De Giovanni e Marco Zurzolo https://ischiaevent
 i.com/eventi-ad-ischia/cultura/dibattiti-ed-incontri-culturali/evento/1032
 06-estate-forio-2025-lantico-amore-spettacolo-musicale-con-maurizio-de-gio
 vanni-e-marco-zurzolo
DTSTART:20250729T190000Z
DTEND:20250729T215900Z
LOCATION:La Colombaia (Via Francesco Calise\, 130\, 80075 Forio NA\, Italia
 )
SUMMARY:Estate Forio 2025: l'antico amore: spettacolo musicale con Maurizio
  De Giovanni e Marco Zurzolo
URL:https://ischiaeventi.com/eventi-ad-ischia/cultura/dibattiti-ed-incontri
 -culturali/evento/103206-estate-forio-2025-lantico-amore-spettacolo-musica
 le-con-maurizio-de-giovanni-e-marco-zurzolo
END:VEVENT
END:VCALENDAR
