BEGIN:VCALENDAR
VERSION:2.0
PRODID:-//https://ischiaeventi.com///NONSGML kigkonsult.se iCalcreator 2.10.15//
METHOD:PUBLISH
BEGIN:VEVENT
UID:20260420T131517UTC-0022GeMdl4@https://ischiaeventi.com/
DTSTAMP:20260420T131517Z
DESCRIPTION:ESTATE FORIO 2025: UN TRIBUTO A FORIO\, EVA KANT E A DIABOLIK h
 ttps://ischiaeventi.com/eventi-ad-ischia/cultura/dibattiti-ed-incontri-cul
 turali/evento/103221-estate-forio-2025-un-tributo-a-forio-eva-kant-e-a-dia
 bolik
DTSTART:20250723T160000Z
DTEND:20250723T215900Z
LOCATION:Chiostro S. Francesco (Rione Pescatori\, 2\, 80075 Forio NA\, Ital
 ia)
SUMMARY:Estate Forio 2025: un tributo a Forio\, Eva Kant e a Diabolik
URL:https://ischiaeventi.com/eventi-ad-ischia/cultura/dibattiti-ed-incontri
 -culturali/evento/103221-estate-forio-2025-un-tributo-a-forio-eva-kant-e-a
 -diabolik
END:VEVENT
END:VCALENDAR
