BEGIN:VCALENDAR
VERSION:2.0
PRODID:-//https://ischiaeventi.com///NONSGML kigkonsult.se iCalcreator 2.10.15//
METHOD:PUBLISH
BEGIN:VEVENT
UID:20260420T114813UTC-5443XfRMPx@https://ischiaeventi.com/
DTSTAMP:20260420T114813Z
DESCRIPTION:\nDOMENICA 10 E LUNEDÌ 11 ORE 21.00 - VILLA LA COLOMBAIAL'ECLIS
 SI\n&nbsp\;\n\n&nbsp\;PRENOTA QUI https://ischiaeventi.com/eventi-ad-ischi
 a/cultura/dibattiti-ed-incontri-culturali/evento/124238-estate-forio-2025-
 leclissi
DTSTART:20250810T190000Z
DTEND:20250810T215900Z
LOCATION:La Colombaia (Via Francesco Calise\, 130\, 80075 Forio NA\, Italia
 )
SUMMARY:Estate Forio 2025: L'ECLISSI
URL:https://ischiaeventi.com/eventi-ad-ischia/cultura/dibattiti-ed-incontri
 -culturali/evento/124238-estate-forio-2025-leclissi
END:VEVENT
END:VCALENDAR
