BEGIN:VCALENDAR
VERSION:2.0
PRODID:-//https://ischiaeventi.com///NONSGML kigkonsult.se iCalcreator 2.10.15//
METHOD:PUBLISH
BEGIN:VEVENT
UID:20260419T151224UTC-08958IVN5V@https://ischiaeventi.com/
DTSTAMP:20260419T151224Z
DESCRIPTION:ISCHIA GOSPEL con Aurelio PITINO https://ischiaeventi.com/event
 i-ad-ischia/cultura/dibattiti-ed-incontri-culturali/evento/249027-natale-a
 -casamicciola-ischia-gospel
DTSTART:20251227T180000Z
DTEND:20251227T205300Z
LOCATION:Chiesa parrocchiale Santa Maria Maddalena (Via Giuseppe Garibaldi\
 , 80074 Casamicciola Terme NA\, Italia)
SUMMARY:Natale a Casamicciola: ISCHIA GOSPEL
URL:https://ischiaeventi.com/eventi-ad-ischia/cultura/dibattiti-ed-incontri
 -culturali/evento/249027-natale-a-casamicciola-ischia-gospel
END:VEVENT
END:VCALENDAR
