BEGIN:VCALENDAR
VERSION:2.0
PRODID:-//https://ischiaeventi.com///NONSGML kigkonsult.se iCalcreator 2.10.15//
METHOD:PUBLISH
BEGIN:VEVENT
UID:20260419T162520UTC-1628BrHUB3@https://ischiaeventi.com/
DTSTAMP:20260419T162520Z
DESCRIPTION:Piazza Marina e corso FESTA della BEFANA NOTTE BIANCA con GIGIO
  ROSA e gli amici della RADIO https://ischiaeventi.com/eventi-ad-ischia/cu
 ltura/dibattiti-ed-incontri-culturali/evento/249030-natale-a-casamicciola-
 festa-della-befana-notte-bianca
DTSTART:20260103T200000Z
DTEND:20260103T205300Z
LOCATION:Piazza Marina Casamicciola Terme (Corso Luigi Manzi\, 1\, 80074 Ca
 samicciola Terme NA\, Italy)
SUMMARY:Natale a Casamicciola: FESTA della BEFANA NOTTE BIANCA
URL:https://ischiaeventi.com/eventi-ad-ischia/cultura/dibattiti-ed-incontri
 -culturali/evento/249030-natale-a-casamicciola-festa-della-befana-notte-bi
 anca
END:VEVENT
END:VCALENDAR
