BEGIN:VCALENDAR
VERSION:2.0
PRODID:-//https://ischiaeventi.com///NONSGML kigkonsult.se iCalcreator 2.10.15//
METHOD:PUBLISH
BEGIN:VEVENT
UID:20260419T162553UTC-6442OvIwSx@https://ischiaeventi.com/
DTSTAMP:20260419T162553Z
DESCRIPTION:Piazza Marina VILLAGGIO NONNA BEFANA https://ischiaeventi.com/e
 venti-ad-ischia/cultura/dibattiti-ed-incontri-culturali/evento/249031-nata
 le-a-casamicciola-villaggio-nonna-befana
DTSTART:20260106T140000Z
DTEND:20260106T155300Z
LOCATION:Piazza Marina Casamicciola Terme (Corso Luigi Manzi\, 1\, 80074 Ca
 samicciola Terme NA\, Italy)
SUMMARY:Natale a Casamicciola: VILLAGGIO NONNA BEFANA
URL:https://ischiaeventi.com/eventi-ad-ischia/cultura/dibattiti-ed-incontri
 -culturali/evento/249031-natale-a-casamicciola-villaggio-nonna-befana
END:VEVENT
END:VCALENDAR
