BEGIN:VCALENDAR
VERSION:2.0
PRODID:-//https://ischiaeventi.com///NONSGML kigkonsult.se iCalcreator 2.10.15//
METHOD:PUBLISH
BEGIN:VEVENT
UID:20260419T162605UTC-66431IKpfR@https://ischiaeventi.com/
DTSTAMP:20260419T162605Z
DESCRIPTION:\n\nOre 15:00 – Corso Vittoria ColonnaBabbo Natale torna a bord
 o dell’Apecalessino per incontrare i bambini\, raccogliere le loro letteri
 ne e portare la magia nelle strade del centro.\n\n\n https://ischiaeventi.
 com/eventi-ad-ischia/cultura/dibattiti-ed-incontri-culturali/evento/249071
 -natale-a-ischia-babbo-natale-torna-a-bordo-dellapecalessino
DTSTART:20251220T140000Z
DTEND:20251220T170000Z
LOCATION:C.so Vittoria Colonna (Corso Vittoria Colonna\, 80077 Ischia NA\, 
 Italia)
SUMMARY:Natale a Ischia: Babbo Natale torna a bordo dell’Apecalessino 
URL:https://ischiaeventi.com/eventi-ad-ischia/cultura/dibattiti-ed-incontri
 -culturali/evento/249071-natale-a-ischia-babbo-natale-torna-a-bordo-dellap
 ecalessino
END:VEVENT
END:VCALENDAR
