BEGIN:VCALENDAR
VERSION:2.0
PRODID:-//https://ischiaeventi.com///NONSGML kigkonsult.se iCalcreator 2.10.15//
METHOD:PUBLISH
BEGIN:VEVENT
UID:20260419T120441UTC-8414jS8bp8@https://ischiaeventi.com/
DTSTAMP:20260419T120441Z
DESCRIPTION:Concerto dei bambini del catechismo delle Parrocchie di S.M. de
 l Carmine e S.M. della Mercede nella chiesa parrocchiale di S.M. della Mer
 cede. https://ischiaeventi.com/eventi-ad-ischia/cultura/dibattiti-ed-incon
 tri-culturali/evento/249213-natale-a-serrara-concerto-dei-bambini
DTSTART:20251228T180000Z
DTEND:20251228T200000Z
LOCATION:Comune di Serrara Fontana (Via Roma\, 79\, 80070 Serrara Fontana N
 A\, Italia)
SUMMARY:Natale a Serrara: Concerto dei bambini
URL:https://ischiaeventi.com/eventi-ad-ischia/cultura/dibattiti-ed-incontri
 -culturali/evento/249213-natale-a-serrara-concerto-dei-bambini
END:VEVENT
END:VCALENDAR
