BEGIN:VCALENDAR
VERSION:2.0
PRODID:-//https://ischiaeventi.com///NONSGML kigkonsult.se iCalcreator 2.10.15//
METHOD:PUBLISH
BEGIN:VEVENT
UID:20260420T114110UTC-8368lp0h3C@https://ischiaeventi.com/
DTSTAMP:20260420T114110Z
DESCRIPTION:12.00 Il Brunch della domenica di Natale con stand eno-gastrono
 mici e street band nel Centro di Panza&nbsp\; https://ischiaeventi.com/eve
 nti-ad-ischia/cultura/dibattiti-ed-incontri-culturali/evento/249270-natale
 -a-forio-2025-il-brunch-della-domenica-a-panza
DTSTART:20251221T110000Z
DTEND:20251221T150000Z
LOCATION:Panza (Piazza San Leonardo - 80075 Panza Forio)
SUMMARY:Natale a Forio 2025: il brunch della domenica a Panza
URL:https://ischiaeventi.com/eventi-ad-ischia/cultura/dibattiti-ed-incontri
 -culturali/evento/249270-natale-a-forio-2025-il-brunch-della-domenica-a-pa
 nza
END:VEVENT
END:VCALENDAR
