BEGIN:VCALENDAR
VERSION:2.0
PRODID:-//https://ischiaeventi.com///NONSGML kigkonsult.se iCalcreator 2.10.15//
METHOD:PUBLISH
BEGIN:VEVENT
UID:20260419T150341UTC-874768TtTN@https://ischiaeventi.com/
DTSTAMP:20260419T150341Z
DESCRIPTION:Piazza Marina CASAMICCIOLA aperitivo in piazza con Dj Sangio11.
 00 . 13:0016:00 - 19:30 https://ischiaeventi.com/eventi-ad-ischia/cultura/
 dibattiti-ed-incontri-culturali/evento/249366-natale-a-casamicciola-aperit
 vo-in-piazza
DTSTART:20251221T100000Z
DTEND:20251221T183000Z
LOCATION:Piazza Marina Casamicciola Terme (Corso Luigi Manzi\, 1\, 80074 Ca
 samicciola Terme NA\, Italy)
SUMMARY:Natale a Casamicciola: aperitvo in piazza
URL:https://ischiaeventi.com/eventi-ad-ischia/cultura/dibattiti-ed-incontri
 -culturali/evento/249366-natale-a-casamicciola-aperitvo-in-piazza
END:VEVENT
END:VCALENDAR
