BEGIN:VCALENDAR
VERSION:2.0
PRODID:-//https://ischiaeventi.com///NONSGML kigkonsult.se iCalcreator 2.10.15//
METHOD:PUBLISH
BEGIN:VEVENT
UID:20260420T113758UTC-3150VXRU3U@https://ischiaeventi.com/
DTSTAMP:20260420T113758Z
DESCRIPTION:Wedding cafe a Forio https://ischiaeventi.com/eventi-ad-ischia/
 cultura/dibattiti-ed-incontri-culturali/evento/249370-natale-a-forio-2025-
 wedding-cafe
DTSTART:20251222T183000Z
DTEND:20251222T210000Z
LOCATION:Piazza Medaglia d'oro (San Gaetano) (Piazza Luca Balsofiore\, 8\, 
 80075 Forio NA\, Italy)
SUMMARY:Natale a Forio 2025: wedding cafè
URL:https://ischiaeventi.com/eventi-ad-ischia/cultura/dibattiti-ed-incontri
 -culturali/evento/249370-natale-a-forio-2025-wedding-cafe
END:VEVENT
END:VCALENDAR
