BEGIN:VCALENDAR
VERSION:2.0
PRODID:-//https://ischiaeventi.com///NONSGML kigkonsult.se iCalcreator 2.10.15//
METHOD:PUBLISH
BEGIN:VEVENT
UID:20260419T161515UTC-7109RrctRc@https://ischiaeventi.com/
DTSTAMP:20260419T161515Z
DESCRIPTION:LUNAPARK INPIAZZETTAMascotte Zucchero filatoArea popcorn Area p
 allonciniLuigi FioranteJUGGLER PERFORMERSpettacoli Giocolieri Trampolieri 
 Sfere &amp\; FuocoMusica &amp\; balli https://ischiaeventi.com/eventi-ad-i
 schia/cultura/dibattiti-ed-incontri-culturali/evento/249539-carnevale-a-is
 chia
DTSTART:20260217T093000Z
DTEND:20260217T120000Z
LOCATION:piazzetta San Girolamo Ischia  ()
SUMMARY:CARNEVALE A ISCHIA
URL:https://ischiaeventi.com/eventi-ad-ischia/cultura/dibattiti-ed-incontri
 -culturali/evento/249539-carnevale-a-ischia
END:VEVENT
END:VCALENDAR
