BEGIN:VCALENDAR
VERSION:2.0
PRODID:-//https://ischiaeventi.com///NONSGML kigkonsult.se iCalcreator 2.10.15//
METHOD:PUBLISH
BEGIN:VEVENT
UID:20260420T101622UTC-0725C5fjEZ@https://ischiaeventi.com/
DTSTAMP:20260420T101622Z
DESCRIPTION:Fenici a Ischia? Tracce di Levantini a PithekoussaiIn collabora
 zione con il Comune di Lacco AmenoMassimo Botto\, Dirigente di Ricerca pre
 sso il CNR e Professore di Archeologia Fenicio Punicapresso la Scuola di S
 pecializzazione OrSaa https://ischiaeventi.com/eventi-ad-ischia/cultura/di
 battiti-ed-incontri-culturali/evento/249829-progetto-kepos-fenici-a-ischia
 -tracce-di-levantini-a-pithekoussai
DTSTART:20260507T170000Z
DTEND:20260507T190000Z
LOCATION:Museo Archeologico Pithecusa (Corso Angelo Rizzoli\, 210\, 80076 L
 acco Ameno NA\, Italia)
SUMMARY:Progetto Kepos: Fenici a Ischia? Tracce di Levantini a Pithekoussai
URL:https://ischiaeventi.com/eventi-ad-ischia/cultura/dibattiti-ed-incontri
 -culturali/evento/249829-progetto-kepos-fenici-a-ischia-tracce-di-levantin
 i-a-pithekoussai
END:VEVENT
END:VCALENDAR
